Workbook

Sheet График ОП
C1: СТД - | D1: стартовая диагностика
C3: 1 класс | E3: 2 класс | H3: 3 класс | K3: 4 класс | M3: 5 класс | P3: 6 класс | S3: 7 класс | V3: 8 класс | Z3: 9 класс | AC3: 10 класс | AD3: 11 класс
C4: 2 - 5 урок | E4: 2 - 5 урок | H4: 2 - 5 урок | K4: 2 - 5 урок | M4: 2 - 6 урок | P4: 2 - 6 урок | S4: 2 - 6 урок | V4: 2 - 6 урок | Z4: 2 - 6 урок | AC4: 2 - 6 урок | AD4: 2 - 6 урок
A5: дата | B5: день недели | C5: а | D5: б | E5: а | F5: б | G5: в | H5: а | I5: б | J5: в | K5: а | L5: б | M5: а | N5: б | O5: в | P5: а | Q5: б | R5: в | S5: а | T5: б | U5: в | V5: а | W5: б | X5: в | Y5: г | Z5: а | AA5: б | AB5: в | AC5: а | AD5: а
A6: 46266 | B6: ВТ
A7: 46267 | B7: СР
A8: 46268 | B8: ЧТ
A9: 46269 | B9: ПТ
A10: 46270 | B10: СБ
A11: 46271 | B11: ВС
A12: 46272 | B12: ПН
A13: 46273 | B13: ВТ
A14: 46274 | B14: СР | O14: КР РУ
A15: 46275 | B15: ЧТ | M15: КР РУ | N15: КР РУ | R15: КР РУ
A16: 46276 | B16: ПТ | M16: КР МА | O16: КР МА | P16: КР РУ | S16: КР РУ | T16: КР РУ
A17: 46277 | B17: СБ
A18: 46278 | B18: ВС
A19: 46279 | B19: ПН | K19: КР МА | V19: КР РУ | W19: КР РУ
A20: 46280 | B20: ВТ | C20: СТД МА | D20: СТД МА | Z20: КР ХИМ
A21: 46281 | B21: СР | C21: СТД РУ | D21: СТД РУ | AA21: КР ХИМ | AB21: КР ХИМ
A22: 46282 | B22: ЧТ
A23: 46283 | B23: ПТ | T23: КР АЛГЕБРА
A24: 46284 | B24: СБ
A25: 46285 | B25: ВС
A26: 46286 | B26: ПН | Z26: КР РУ | AA26: КР РУ
A27: 46287 | B27: ВТ
A28: 46288 | B28: СР
A29: 46289 | B29: ЧТ | F29: КР МА
A30: 46290 | B30: ПТ | N30: КР АЯ | O30: КР АЯ | U30: КР АЯ
A31: 46291 | B31: СБ
A32: 46292 | B32: ВС
A33: 46293 | B33: ПН
A34: 46294 | B34: ВТ | E34: КР ОКР | K34: КР АЯ | M34: КР АЯ
A35: 46295 | B35: СР | L35: КР АЯ
A36: 46296 | B36: ЧТ
A37: 46297 | B37: ПТ
A38: 46298 | B38: СБ
A39: 46299 | B39: ВС
A40: 46300 | B40: ПН
A41: 46301 | B41: ВТ | E41: КР МА
...

Sheet календарь
B3: 2026 | Z3: 2026
C4: январь | J4: Февраль | R4: Март | Z4: январь
B5: понедельник | D5: 5 | E5: 12 | F5: =E5+7 -> 19 | G5: =F5+7 -> 26 | I5: понедельник | K5: =J11+1 -> 2 | L5: =K5+7 -> 9 | M5: =L5+7 -> 16 | N5: =M5+7 -> 23 | Q5: понедельник | S5: =R11+1 -> 2 | T5: =S5+7 -> 9 | U5: =T5+7 -> 16 | V5: =U5+7 -> 23 | W5: =V5+7 -> 30 | Y5: 1 | Z5: понедельник | AA5: 46034
B6: вторник | D6: =D5+1 -> 6 | E6: =E5+1 -> 13 | F6: =F5+1 -> 20 | G6: =G5+1 -> 27 | I6: вторник | K6: =K5+1 -> 3 | L6: =L5+1 -> 10 | M6: =M5+1 -> 17 | N6: =N5+1 -> 24 | Q6: вторник | S6: =S5+1 -> 3 | T6: =T5+1 -> 10 | U6: =U5+1 -> 17 | V6: =V5+1 -> 24 | W6: =W5+1 -> 31 | Y6: 2 | Z6: вторник | AA6: 46035
B7: среда | D7: =D6+1 -> 7 | E7: =E6+1 -> 14 | F7: =F6+1 -> 21 | G7: =G6+1 -> 28 | I7: среда | K7: =K6+1 -> 4 | L7: =L6+1 -> 11 | M7: =M6+1 -> 18 | N7: =N6+1 -> 25 | Q7: среда | S7: =S6+1 -> 4 | T7: =T6+1 -> 11 | U7: =U6+1 -> 18 | V7: =V6+1 -> 25 | Y7: 3 | Z7: среда | AA7: 46036
B8: четверг | C8: 1 | D8: =D7+1 -> 8 | E8: =E7+1 -> 15 | F8: =F7+1 -> 22 | G8: =G7+1 -> 29 | I8: четверг | K8: =K7+1 -> 5 | L8: =L7+1 -> 12 | M8: =M7+1 -> 19 | N8: =N7+1 -> 26 | Q8: четверг | S8: =S7+1 -> 5 | T8: =T7+1 -> 12 | U8: =U7+1 -> 19 | V8: =V7+1 -> 26 | Y8: 4 | Z8: четверг | AA8: 46037
B9: пятница | C9: =C8+1 -> 2 | D9: =D8+1 -> 9 | E9: =E8+1 -> 16 | F9: =F8+1 -> 23 | G9: =G8+1 -> 30 | I9: пятница | K9: =K8+1 -> 6 | L9: =L8+1 -> 13 | M9: =M8+1 -> 20 | N9: =N8+1 -> 27 | Q9: пятница | S9: =S8+1 -> 6 | T9: =T8+1 -> 13 | U9: =U8+1 -> 20 | V9: =V8+1 -> 27 | Y9: 5 | Z9: пятница | AA9: 46038
B10: суббота | C10: =C9+1 -> 3 | D10: =D9+1 -> 10 | E10: =E9+1 -> 17 | F10: =F9+1 -> 24 | G10: =G9+1 -> 31 | I10: суббота | K10: =K9+1 -> 7 | L10: =L9+1 -> 14 | M10: =M9+1 -> 21 | N10: =N9+1 -> 28 | Q10: суббота | S10: =S9+1 -> 7 | T10: =T9+1 -> 14 | U10: =U9+1 -> 21 | V10: =V9+1 -> 28 | Z10: суббота | AA10: 46039
B11: воскресенье | C11: =C10+1 -> 4 | D11: =D10+1 -> 11 | E11: =E10+1 -> 18 | F11: =F10+1 -> 25 | I11: воскресенье | J11: 1 | K11: =K10+1 -> 8 | L11: =L10+1 -> 15 | M11: =M10+1 -> 22 | Q11: воскресенье | R11: 1 | S11: =S10+1 -> 8 | T11: =T10+1 -> 15 | U11: =U10+1 -> 22 | V11: =V10+1 -> 29 | Z11: воскресенье | AA11: 46040
Z12: понедельник | AA12: 46041
Z13: вторник | AA13: 46042
C14: Апрель | J14: Май | R14: Сентябрь | Z14: среда | AA14: 46043
B15: понедельник | D15: =C21+1 -> 6 | E15: =D15+7 -> 13 | F15: =E15+7 -> 20 | G15: =F15+7 -> 27 | I15: понедельник | K15: =J21+1 -> 4 | L15: =K15+7 -> 11 | M15: =L15+7 -> 18 | N15: =M15+7 -> 25 | Q15: понедельник | S15: =R15+7 -> 7 | T15: =S15+7 -> 14 | U15: =T15+7 -> 21 | V15: =U15+7 -> 28 | Z15: четверг | AA15: 46044
B16: вторник | D16: =D15+1 -> 7 | E16: =E15+1 -> 14 | F16: =F15+1 -> 21 | G16: =G15+1 -> 28 | I16: вторник | K16: =K15+1 -> 5 | L16: =L15+1 -> 12 | M16: =M15+1 -> 19 | N16: =N15+1 -> 26 | Q16: вторник | R16: 1 | S16: =S15+1 -> 8 | T16: =T15+1 -> 15 | U16: =U15+1 -> 22 | V16: =V15+1 -> 29 | Z16: пятница | AA16: 46045
B17: среда | C17: 1 | D17: =D16+1 -> 8 | E17: =E16+1 -> 15 | F17: =F16+1 -> 22 | G17: =G16+1 -> 29 | I17: среда | K17: =K16+1 -> 6 | L17: =L16+1 -> 13 | M17: =M16+1 -> 20 | N17: =N16+1 -> 27 | Q17: среда | R17: =R16+1 -> 2 | S17: =S16+1 -> 9 | T17: =T16+1 -> 16 | U17: =U16+1 -> 23 | V17: =V16+1 -> 30 | Z17: суббота | AA17: 46046
B18: четверг | C18: =C17+1 -> 2 | D18: =D17+1 -> 9 | E18: =E17+1 -> 16 | F18: =F17+1 -> 23 | G18: =G17+1 -> 30 | I18: четверг | K18: =K17+1 -> 7 | L18: =L17+1 -> 14 | M18: =M17+1 -> 21 | N18: =N17+1 -> 28 | Q18: четверг | R18: =R17+1 -> 3 | S18: =S17+1 -> 10 | T18: =T17+1 -> 17 | U18: =U17+1 -> 24 | Z18: воскресенье | AA18: 46047
B19: пятница | C19: =C18+1 -> 3 | D19: =D18+1 -> 10 | E19: =E18+1 -> 17 | F19: =F18+1 -> 24 | I19: пятница | J19: 1 | K19: =K18+1 -> 8 | L19: =L18+1 -> 15 | M19: =M18+1 -> 22 | N19: =N18+1 -> 29 | Q19: пятница | R19: =R18+1 -> 4 | S19: =S18+1 -> 11 | T19: =T18+1 -> 18 | U19: =U18+1 -> 25 | Z19: понедельник | AA19: 46048
B20: суббота | C20: =C19+1 -> 4 | D20: =D19+1 -> 11 | E20: =E19+1 -> 18 | F20: =F19+1 -> 25 | I20: суббота | J20: =J19+1 -> 2 | K20: =K19+1 -> 9 | L20: =L19+1 -> 16 | M20: =M19+1 -> 23 | N20: =N19+1 -> 30 | Q20: суббота | R20: =R19+1 -> 5 | S20: =S19+1 -> 12 | T20: =T19+1 -> 19 | U20: =U19+1 -> 26 | Z20: вторник | AA20: 46049
B21: воскресенье | C21: =C20+1 -> 5 | D21: =D20+1 -> 12 | E21: =E20+1 -> 19 | F21: =F20+1 -> 26 | I21: воскресенье | J21: =J20+1 -> 3 | K21: =K20+1 -> 10 | L21: =L20+1 -> 17 | M21: =M20+1 -> 24 | N21: =N20+1 -> 31 | Q21: воскресенье | R21: =R20+1 -> 6 | S21: =S20+1 -> 13 | T21: =T20+1 -> 20 | U21: =U20+1 -> 27 | Z21: среда | AA21: 46050
Z22: четверг | AA22: 46051
Z23: пятница | AA23: 46052
C24: Октябрь | J24: Ноябрь | R24: Декабрь | Z24: суббота | AA24: 46053
B25: понедельник | D25: =C31+1 -> 5 | E25: =D25+7 -> 12 | F25: =E25+7 -> 19 | G25: =F25+7 -> 26 | I25: понедельник | K25: =J31+1 -> 2 | L25: =K25+7 -> 9 | M25: =L25+7 -> 16 | N25: =M25+7 -> 23 | O25: =N25+7 -> 30 | Q25: понедельник | S25: =R31+1 -> 7 | T25: =S25+7 -> 14 | U25: =T25+7 -> 21 | V25: =U25+7 -> 28
B26: вторник | D26: =D25+1 -> 6 | E26: =E25+1 -> 13 | F26: =F25+1 -> 20 | G26: =G25+1 -> 27 | I26: вторник | K26: =K25+1 -> 3 | L26: =L25+1 -> 10 | M26: =M25+1 -> 17 | N26: =N25+1 -> 24 | Q26: вторник | R26: 1 | S26: =S25+1 -> 8 | T26: =T25+1 -> 15 | U26: =U25+1 -> 22 | V26: =V25+1 -> 29
B27: среда | D27: =D26+1 -> 7 | E27: =E26+1 -> 14 | F27: =F26+1 -> 21 | G27: =G26+1 -> 28 | I27: среда | K27: =K26+1 -> 4 | L27: =L26+1 -> 11 | M27: =M26+1 -> 18 | N27: =N26+1 -> 25 | Q27: среда | R27: =R26+1 -> 2 | S27: =S26+1 -> 9 | T27: =T26+1 -> 16 | U27: =U26+1 -> 23 | V27: =V26+1 -> 30 | Z27: февраль
B28: четверг | C28: 1 | D28: =D27+1 -> 8 | E28: =E27+1 -> 15 | F28: =F27+1 -> 22 | G28: =G27+1 -> 29 | I28: четверг | K28: =K27+1 -> 5 | L28: =L27+1 -> 12 | M28: =M27+1 -> 19 | N28: =N27+1 -> 26 | Q28: четверг | R28: =R27+1 -> 3 | S28: =S27+1 -> 10 | T28: =T27+1 -> 17 | U28: =U27+1 -> 24 | V28: =V27+1 -> 31 | Z28: воскресенье | AA28: 46054
B29: пятница | C29: =C28+1 -> 2 | D29: =D28+1 -> 9 | E29: =E28+1 -> 16 | F29: =F28+1 -> 23 | G29: =G28+1 -> 30 | I29: пятница | K29: =K28+1 -> 6 | L29: =L28+1 -> 13 | M29: =M28+1 -> 20 | N29: =N28+1 -> 27 | Q29: пятница | R29: =R28+1 -> 4 | S29: =S28+1 -> 11 | T29: =T28+1 -> 18 | U29: =U28+1 -> 25 | Z29: понедельник | AA29: 46055
B30: суббота | C30: =C29+1 -> 3 | D30: =D29+1 -> 10 | E30: =E29+1 -> 17 | F30: =F29+1 -> 24 | G30: =G29+1 -> 31 | I30: суббота | K30: =K29+1 -> 7 | L30: =L29+1 -> 14 | M30: =M29+1 -> 21 | N30: =N29+1 -> 28 | Q30: суббота | R30: =R29+1 -> 5 | S30: =S29+1 -> 12 | T30: =T29+1 -> 19 | U30: =U29+1 -> 26 | Z30: вторник | AA30: 46056
B31: воскресенье | C31: =C30+1 -> 4 | D31: =D30+1 -> 11 | E31: =E30+1 -> 18 | F31: =F30+1 -> 25 | I31: воскресенье | J31: 1 | K31: =K30+1 -> 8 | L31: =L30+1 -> 15 | M31: =M30+1 -> 22 | N31: =N30+1 -> 29 | Q31: воскресенье | R31: =R30+1 -> 6 | S31: =S30+1 -> 13 | T31: =T30+1 -> 20 | U31: =U30+1 -> 27 | Z31: среда | AA31: 46057
Z32: четверг | AA32: 46058
B33: 2027 | Z33: пятница | AA33: 46059
C34: январь | J34: Февраль | R34: Март | Z34: суббота | AA34: 46060
B35: понедельник | D35: =C41+1 -> 4 | E35: =D41+1 -> 11 | F35: =E35+7 -> 18 | G35: =F35+7 -> 25 | I35: понедельник | J35: 1 | K35: =J41+1 -> 8 | L35: =K35+7 -> 15 | M35: =L35+7 -> 22 | Q35: понедельник | R35: 1 | S35: =R41+1 -> 8 | T35: =S35+7 -> 15 | U35: =T35+7 -> 22 | V35: =U35+7 -> 29 | Z35: воскресенье | AA35: 46061
B36: вторник | D36: =D35+1 -> 5 | E36: =E35+1 -> 12 | F36: =F35+1 -> 19 | G36: =G35+1 -> 26 | I36: вторник | J36: =J35+1 -> 2 | K36: =K35+1 -> 9 | L36: =L35+1 -> 16 | M36: =M35+1 -> 23 | Q36: вторник | R36: =R35+1 -> 2 | S36: =S35+1 -> 9 | T36: =T35+1 -> 16 | U36: =U35+1 -> 23 | V36: =V35+1 -> 30 | Z36: понедельник | AA36: 46062
B37: среда | D37: =D36+1 -> 6 | E37: =E36+1 -> 13 | F37: =F36+1 -> 20 | G37: =G36+1 -> 27 | I37: среда | J37: =J36+1 -> 3 | K37: =K36+1 -> 10 | L37: =L36+1 -> 17 | M37: =M36+1 -> 24 | Q37: среда | R37: =R36+1 -> 3 | S37: =S36+1 -> 10 | T37: =T36+1 -> 17 | U37: =U36+1 -> 24 | V37: =V36+1 -> 31 | Z37: вторник | AA37: 46063
B38: четверг | D38: =D37+1 -> 7 | E38: =E37+1 -> 14 | F38: =F37+1 -> 21 | G38: =G37+1 -> 28 | I38: четверг | J38: =J37+1 -> 4 | K38: =K37+1 -> 11 | L38: =L37+1 -> 18 | M38: =M37+1 -> 25 | Q38: четверг | R38: =R37+1 -> 4 | S38: =S37+1 -> 11 | T38: =T37+1 -> 18 | U38: =U37+1 -> 25 | Z38: среда | AA38: 46064
B39: пятница | C39: =C38+1 -> 1 | D39: =D38+1 -> 8 | E39: =E38+1 -> 15 | F39: =F38+1 -> 22 | G39: =G38+1 -> 29 | I39: пятница | J39: =J38+1 -> 5 | K39: =K38+1 -> 12 | L39: =L38+1 -> 19 | M39: =M38+1 -> 26 | Q39: пятница | R39: =R38+1 -> 5 | S39: =S38+1 -> 12 | T39: =T38+1 -> 19 | U39: =U38+1 -> 26 | Z39: четверг | AA39: 46065
B40: суббота | C40: =C39+1 -> 2 | D40: =D39+1 -> 9 | E40: =E39+1 -> 16 | F40: =F39+1 -> 23 | G40: =G39+1 -> 30 | I40: суббота | J40: =J39+1 -> 6 | K40: =K39+1 -> 13 | L40: =L39+1 -> 20 | M40: =M39+1 -> 27 | Q40: суббота | R40: =R39+1 -> 6 | S40: =S39+1 -> 13 | T40: =T39+1 -> 20 | U40: =U39+1 -> 27 | Z40: пятница | AA40: 46066
B41: воскресенье | C41: =C40+1 -> 3 | D41: =D40+1 -> 10 | E41: =E40+1 -> 17 | F41: =F40+1 -> 24 | G41: =G40+1 -> 31 | I41: воскресенье | J41: =J40+1 -> 7 | K41: =K40+1 -> 14 | L41: =L40+1 -> 21 | M41: =M40+1 -> 28 | Q41: воскресенье | R41: =R40+1 -> 7 | S41: =S40+1 -> 14 | T41: =T40+1 -> 21 | U41: =U40+1 -> 28 | Z41: суббота | AA41: 46067
Z42: воскресенье | AA42: 46068
...

Sheet предметы
A2: 1 класс | B2: 2 класс | C2: 3 класс | D2: 4 класс | E2: 5 класс | F2: 6 класс | G2: 7 класс | H2: 8 класс | I2: 9 класс | J2: 10 класс | K2: 11 класс
A3: СТД МА | B3: КР АЯ | C3: КР АЯ | D3: ВПР АЯ | E3: ВПР АЯ | F3: ВПР АЯ | G3: ВПР АЯ | H3: ВПР АЯ | I3: КР АЯ | J3: ВПР АЯ | K3: КР АЯ
A4: СТД РУ | B4: КР НЕМ | C4: КР НЕМ | D4: ВПР МА | E4: ВПР МА | F4: ВПР МА | G4: ВПР МА | H4: ВПР МА | I4: КР АЛГЕБРА | J4: ВПР МА | K4: КР АЛГЕБРА
A5: СТД ОКР | B5: КР ФР | C5: КР ФР | D5: ВПР РУ | E5: ВПР РУ | F5: ВПР РУ | G5: ВПР РУ | H5: ВПР РУ | I5: КР ГЕОМЕТРИЯ | J5: ВПР РУ | K5: КР ГЕОМЕТРИЯ
B6: КР МА | C6: КР МА | D6: ВПР ОКР | E6: ВПР БИО | F6: ВПР БИО | G6: ВПР БИО | H6: ВПР БИО | I6: КР ВЕР И СТ | J6: ВПР БИО | K6: КР ВЕР И СТ
B7: КР РУ | C7: КР РУ | D7: ВПР ЛИ | E7: ВПР ГЕО | F7: ВПР ГЕО | G7: ВПР ГЕО | H7: ВПР ГЕО | I7: КР РУ | J7: ВПР ГЕО | K7: КР РУ
B8: КР ОКР | C8: КР ОКР | D8: ВПР НЕМ | E8: ВПР ИСТ | F8: ВПР ИСТ | G8: ВПР ИСТ | H8: ВПР ИСТ | I8: КР БИО | J8: ВПР ИСТ | K8: КР БИО
B9: КР ЛИ | C9: КР ЛИ | D9: ВПР ФР | E9: ВПР ЛИ | F9: ВПР ЛИ | G9: ВПР ЛИ | H9: ВПР ЛИ | I9: КР ГЕО | J9: ВПР ЛИ | K9: КР ГЕО
B10: СТД МА | D10: КР НЕМ | E10: ВПР НЕМ | F10: ВПР НЕМ | G10: ВПР ФИЗ | H10: ВПР ФИЗ | I10: КР ИСТ | J10: ВПР ФИЗ | K10: КР ИСТ
B11: СТД РУ | D11: КР ФР | E11: ВПР ФР | F11: ВПР ФР | G11: ВПР НЕМ | H11: ВПР НЕМ | I11: КР ЛИ | J11: ВПР НЕМ | K11: КР ЛИ
D12: КР АЯ | E12: КР АЯ | F12: ВПР ОБЩ | G12: ВПР ФР | H12: ВПР ФР | I12: КР ФИЗ | J12: ВПР ФР | K12: КР ФИЗ
D13: КР МА | E13: КР МА | F13: КР АЯ | G13: ВПР ОБЩ | H13: ВПР ОБЩ | I13: КР НЕМ | J13: ВПР ОБЩ | K13: КР НЕМ
D14: КР РУ | E14: КР РУ | F14: КР МА | G14: ВПР ИНФ | H14: ВПР ИНФ | I14: КР ФР | J14: ВПР ИНФ | K14: КР ФР
D15: КР ОКР | E15: КР БИО | F15: КР РУ | G15: КР АЯ | H15: ВПР ХИМ | I15: КР ОБЩ | J15: ВПР ХИМ | K15: КР ОБЩ
D16: КР ЛИ | E16: КР ГЕО | F16: КР БИО | G16: КР АЛГЕБРА | H16: КР АЯ | I16: КР ИНФ | J16: КР АЯ | K16: КР ИНФ
E17: КР ИСТ | F17: КР ГЕО | G17: КР ГЕОМЕТРИЯ | H17: КР АЛГЕБРА | I17: КР ХИМ | J17: КР АЛГЕБРА | K17: КР ХИМ
E18: КР ЛИ | F18: КР ИСТ | G18: КР ВЕР И СТ | H18: КР ГЕОМЕТРИЯ | I18: СТД ОБЩ | J18: КР ГЕОМЕТРИЯ
E19: КР НЕМ | F19: КР ЛИ | G19: КР РУ | H19: КР ВЕР И СТ | J19: КР ВЕР И СТ
E20: КР ФР | F20: КР НЕМ | G20: КР БИО | H20: КР РУ | J20: КР РУ
E21: СТД АЯ | F21: КР ФР | G21: КР ГЕО | H21: КР БИО | J21: КР БИО
E22: СТД МА | F22: КР ОБЩ | G22: КР ИСТ | H22: КР ГЕО | J22: КР ГЕО
E23: СТД РУ | G23: КР ЛИ | H23: КР ИСТ | J23: КР ИСТ
E24: СТД БИО | G24: КР ФИЗ | H24: КР ЛИ | J24: КР ЛИ
E25: СТД ГЕО | G25: КР НЕМ | H25: КР ФИЗ | J25: КР ФИЗ
E26: СТД ИСТ | G26: КР ФР | H26: КР НЕМ | J26: КР НЕМ
E27: СТД ЛИ | G27: КР ОБЩ | H27: КР ФР | J27: КР ФР
E28: СТД НЕМ | G28: КР ИНФ | H28: КР ОБЩ | J28: КР ОБЩ
E29: СТД ФР | G29: СТД ИНФ | H29: КР ИНФ | J29: КР ИНФ
G30: СТД АЛГЕБРА | H30: КР ХИМ | J30: КР ХИМ
G31: СТД ГЕОМЕТРИЯ | H31: СТД ХИМ
G32: СТД ВЕР И СТ
G33: СТД ФИЗ

Sheet Проверка
C3: 1 класс | I3: 2 класс | O3: 3 класс | U3: 4 класс | AA3: 5 класс | AG3: 6 класс | AM3: 7 класс | AS3: 8 класс | AY3: 9 класс | BE3: 10 класс | BK3: 11 класс
C4: 2 - 5 урок | I4: 2 - 5 урок | O4: 2 - 5 урок | U4: 2 - 5 урок | AA4: 2 - 6 урок | AG4: 2 - 6 урок | AM4: 2 - 6 урок | AS4: 2 - 6 урок | AY4: 2 - 6 урок | BE4: 2 - 6 урок | BK4: 2 - 6 урок
A5: дата | B5: день недели | C5: а | D5: б | E5: в | F5: г | G5: д | H5: е | I5: а | J5: б | K5: в | L5: г | M5: д | N5: е | O5: а | P5: б | Q5: в | R5: г | S5: д | T5: е | U5: а | V5: б | W5: в | X5: г | Y5: д | Z5: е | AA5: а | AB5: б | AC5: в | AD5: г | AE5: д | AF5: е | AG5: а | AH5: б | AI5: в | AJ5: г | AK5: д | AL5: е | AM5: а | AN5: б | AO5: в | AP5: г | AQ5: д | AR5: е | AS5: а | AT5: б | AU5: в | AV5: г | AW5: д | AX5: е | AY5: а | AZ5: б | BA5: в | BB5: г | BC5: д | BD5: е | BE5: а | BF5: б | BG5: в | BH5: г | BI5: д | BJ5: е | BK5: а | BL5: б | BM5: в | BN5: г | BO5: д | BP5: е
